BEGIN:VCALENDAR
VERSION:2.0
PRODID:-//Production Core//EVENT 1.0//EN
METHOD:PUBLISH
BEGIN:VEVENT
SUMMARY:Bike Week 2025 - Green Schools National COW (cycle on Wednesday / weekdays) day
UID:c8cf1cfe597fc15bf7ac472fd1e5399d
SEQUENCE:0
DTSTART:20250514T080000
DTEND:20250514T100000
ORGANIZER;CN=Offaly Sports:MAILTO:sports@offalycoco.ie
LOCATION:Countywide, Offaly, Ireland
DTSTAMP:20260424T181753
DESCRIPTION:Green-Schools would like to invite all schools currently on Travel and Global Citizenship Travel programmes, and those who have completed their Travel flag to take part in the Green Schools COW day (cycle on Wednesday / weekdays) on Wednesday, 14th May 2025. 
URL:https://www.offalysports.ie/events/bike-week-2025-green-schools-national-cow-cycle-on-wednesday-weekdays-day
END:VEVENT
END:VCALENDAR