BEGIN:VCALENDAR
VERSION:2.0
PRODID:-//Production Core//EVENT 1.0//EN
METHOD:PUBLISH
BEGIN:VEVENT
SUMMARY:Webinar - Breaking Barriers: Women in Officiating
UID:cfbd8de1b2be68411bb2eee6c7750808
SEQUENCE:0
DTSTART:20250306T200000
DTEND:20250306T210000
ORGANIZER;CN=Offaly Sports:MAILTO:sports@offalycoco.ie
LOCATION:Online, Offaly, Ireland
DTSTAMP:20260424T180702
DESCRIPTION:Want to see more women on the sidelines and in the game? 
URL:https://www.offalysports.ie/events/breaking-barriers-women-in-officiating
END:VEVENT
END:VCALENDAR