BEGIN:VCALENDAR
VERSION:2.0
PRODID:-//Production Core//EVENT 1.0//EN
METHOD:PUBLISH
BEGIN:VEVENT
SUMMARY:Co Offaly Sports Plan - consultation for girls
UID:1fea3fdae3fdc3901f4caa4f88f78328
SEQUENCE:0
DTSTART:20250922T190000
DTEND:20250922T203000
ORGANIZER;CN=Offaly Sports:MAILTO:sports@offalycoco.ie
LOCATION:Tullamore Court Hotel
DTSTAMP:20260424T180813
DESCRIPTION:
URL:https://www.offalysports.ie/events/co-offaly-sports-plan-consultation-for-girls
END:VEVENT
END:VCALENDAR