BEGIN:VCALENDAR
VERSION:2.0
PRODID:-//Production Core//EVENT 1.0//EN
METHOD:PUBLISH
BEGIN:VEVENT
SUMMARY:Co Offaly Sports Plan - consultation for sports clubs
UID:a476b443bbde419d1b0eaf4a87ae4fe9
SEQUENCE:0
DTSTART:20250929T190000
DTEND:20250929T203000
ORGANIZER;CN=Offaly Sports:MAILTO:sports@offalycoco.ie
LOCATION:Tullamore Court Hotel
DTSTAMP:20260424T182602
DESCRIPTION:
URL:https://www.offalysports.ie/events/co-offaly-sports-plan-consultation-for-sports-clubs
END:VEVENT
END:VCALENDAR