BEGIN:VCALENDAR
VERSION:2.0
PRODID:-//Production Core//EVENT 1.0//EN
METHOD:PUBLISH
BEGIN:VEVENT
SUMMARY:Sport Ireland Ethics - Safeguarding 1
UID:ce639224b1712f86cd258e87f1bcd8c4
SEQUENCE:0
DTSTART:20250327T190000
DTEND:20250327T220000
ORGANIZER;CN=Offaly Sports:MAILTO:sports@offalycoco.ie
LOCATION:Mucklagh Community Centre, Offaly, Ireland
DTSTAMP:20260424T180702
DESCRIPTION:Child welfare & protection, basic awareness workshop - Thursday, 27th March from 7 to 10pm in Mucklagh Community Centre
URL:https://www.offalysports.ie/events/sport-ireland-ethics-safeguarding-1-3-2-2
END:VEVENT
END:VCALENDAR