BEGIN:VCALENDAR
VERSION:2.0
PRODID:-//Production Core//EVENT 1.0//EN
METHOD:PUBLISH
BEGIN:VEVENT
SUMMARY:Webinar - Coaching the Female Athlete
UID:29b645e071c1124f6137ee0247426823
SEQUENCE:0
DTSTART:20250304T200000
DTEND:20250304T210000
ORGANIZER;CN=Offaly Sports:MAILTO:sports@offalycoco.ie
LOCATION:Offaly, Ireland
DTSTAMP:20260424T180440
DESCRIPTION:As part of Women in Sport Week 2025, Sport Ireland kindly invites all coaches of female athletes to join the 'Coaching The Female Athlete Webinar' on Tuesday 4th March from 8 to 9pm.
URL:https://www.offalysports.ie/events/webinar-coaching-the-female-athlete
END:VEVENT
END:VCALENDAR