BEGIN:VCALENDAR
VERSION:2.0
PRODID:-//Production Core//EVENT 1.0//EN
METHOD:PUBLISH
BEGIN:VEVENT
SUMMARY:Webinar: Her Moves - Supporting Teenage Girls in Sport (schools webinar)
UID:365b23903a0e8712ca9e2168598cd55f
SEQUENCE:0
DTSTART:20250305T110000
DTEND:20250305T120000
ORGANIZER;CN=Offaly Sports:MAILTO:sports@offalycoco.ie
LOCATION:Offaly, Ireland
DTSTAMP:20260424T182729
DESCRIPTION:Designed for teenage girls, but equally suitable for coaches, teachers and parents, this webinar will discuss different topics that girls experience in their relationship with sport, including menstruation, body image, and sports bras.
URL:https://www.offalysports.ie/events/webinar-her-moves-supporting-teenage-girls-in-sport-2
END:VEVENT
END:VCALENDAR