BEGIN:VCALENDAR
VERSION:2.0
PRODID:-//Production Core//EVENT 1.0//EN
METHOD:PUBLISH
BEGIN:VEVENT
SUMMARY:Webinar: Her Moves - Supporting Teenage Girls in Sport (clubs webinar)
UID:afe95d0fca9bf8b650fa4ca35469ad33
SEQUENCE:0
DTSTART:20250305T193000
DTEND:20250305T203000
ORGANIZER;CN=Offaly Sports:MAILTO:sports@offalycoco.ie
LOCATION:Offaly, Ireland
DTSTAMP:20260424T181615
DESCRIPTION:Designed for teenage girls, but equally suitable for coaches, teachers and parents, this webinar will discuss different topics that girls experience in their relationship with sport, including menstruation, body image, and sports bras.
URL:https://www.offalysports.ie/events/webinar-her-moves-supporting-teenage-girls-in-sport
END:VEVENT
END:VCALENDAR