BEGIN:VCALENDAR
VERSION:2.0
PRODID:-//Production Core//EVENT 1.0//EN
METHOD:PUBLISH
BEGIN:VEVENT
SUMMARY:YouSports Erasmus+ Evening at Explorium
UID:52e6052dcb5748df3ac9259523f31e59
SEQUENCE:0
DTSTART:20260429T180000
DTEND:20260429T210000
ORGANIZER;CN=Offaly Sports:MAILTO:sports@offalycoco.ie
LOCATION:Explorium, National Sport & Science Centre, Dublin
DTSTAMP:20260422T154638
DESCRIPTION:
URL:https://www.offalysports.ie/events/yousports-erasmus-evening-at-explorium
END:VEVENT
END:VCALENDAR